BEGIN:VCALENDAR
VERSION:2.0
PRODID:eintopf.info
METHOD:REQUEST
BEGIN:VEVENT
UID:603fc76e-97dc-4586-b192-e30d244dc6a6
SUMMARY:Start Anmeldung zur Bietrunde SoLaWiS
DTSTART:20251010T170000Z
URL:https://eintopf.info/event/603fc76e-97dc-4586-b192-e30d244dc6a6
DTEND:20251010T170000Z
CATEGORIES:DIY\,Ernährung
DESCRIPTION:Vom 10.10.-7.11. ist Onlineanmeldung zur Bietrunde von SoLaWiS.
  Bei der Bietrunde Mitte November nehmen alle teil\, die in der Saison
  2026 SoLaWiS-Hofprodukte teilen wollen und geben dabei vorab ihre
  finanzielle Zusage. Jede*r bietet nach ihren Möglichkeiten\, also mal
  mehr\, mal weniger als der gemittelte Richtwert. So unterstützen wir uns
  gegenseitig\, um das Gesamtbudget zusammenzubekommen. Du willst dich zur
  Bietrunde anmelden? Dann schreibe an mail@solawis.de.
LOCATION:online
ORGANIZER:mailto:Solidarische Landwirtschaft Stuttgart,Essbare Region
  Stuttgart
END:VEVENT
END:VCALENDAR
