BEGIN:VCALENDAR
VERSION:2.0
PRODID:eintopf.info
METHOD:REQUEST
BEGIN:VEVENT
UID:60392cea-d32b-4f4c-99f9-9fd524e344f6
SUMMARY:Queer Theke | Community - was nun?
DTSTART:20241114T173000Z
URL:https://eintopf.info/event/60392cea-d32b-4f4c-99f9-9fd524e344f6
CATEGORIES:Podiumsdiskussion\,Queer
DESCRIPTION:Community – was nun?\n\nTraditionell beenden wir das
  Queere-Theke-Jahr mit der Frage nach dem „Was war?“ und „Was
  kommt?“. Dieses Jahr hatte es in sich: Landtagswahlen\, bis zum Talk
  sind auch die Wahlen in den USA durch und auch in den queeren Communities
  Stuttgarts ist einiges passiert! Also: Kommt vorbei und diskutiert mit
  uns über unsere Zukunft!\n\nDieses Mal haben wir uns keine Gäste
  eingeladen – die Talkgäste seid Ihr! Wir werden eine Fishbowl
  Diskussion machen. Das heißt\, drei Personen sitzen auf der Bühne und
  sprechen über ein Thema. Wenn jemand aus dem Publikum mitdiskutieren
  möchte\, verlässt eine der drei Personen die Bühne und macht Platz. So
  können viele verschiedene Perspektiven sichtbar gemacht werden.\n\nDer
  letzte Talk findet nicht im UTOPIA Kiosk statt\, sondern in reBOOTS in
  der Bopserstraße! Wir freuen uns auf Euch!
LOCATION:reBOOTS\, Bopserstraße 9\, 70180 Stuttgart
GEO:48.770198750000006;9.17936190590137
ORGANIZER:mailto:Projekt 100% MENSCH
END:VEVENT
END:VCALENDAR
