BEGIN:VCALENDAR
VERSION:2.0
PRODID:eintopf.info
METHOD:REQUEST
BEGIN:VEVENT
UID:5f28f5e3-6b28-425d-95e5-1e137a055e9d
SUMMARY:"Teen Angst" von Inga Pylypchuk (DE/UA / 2024 / 38 Min) // Through
  Her* Eyes - Queerfeministische Filmtage
DTSTART:20251029T180000Z
URL:https://eintopf.info/event/5f28f5e3-6b28-425d-95e5-1e137a055e9d
CATEGORIES:Kino\,Queer
DESCRIPTION:
LOCATION:ifa- Institut für Auslandsbeziehungen
ORGANIZER:mailto:FF*GZ 
END:VEVENT
END:VCALENDAR
