BEGIN:VCALENDAR
VERSION:2.0
PRODID:eintopf.info
METHOD:REQUEST
BEGIN:VEVENT
UID:5eb9b46e-2dcf-4299-96e2-ff3d42efcae3
SUMMARY:PLEKS.live: Reza Mirjalali (Comtemporary World Fusion)
DTSTART:20250926T180000Z
URL:https://eintopf.info/event/5eb9b46e-2dcf-4299-96e2-ff3d42efcae3
CATEGORIES:Konzert & Party\,Sonstiges
DESCRIPTION:Born in Tehran in 1989\, Reza is a multi-instrumentalist\,
  composer\, and experimental artist whose work bridges Eastern and Western
  cultures. He began his musical journey at the age of six under the
  guidance of his father\, Maestro Shahram Mirjalali\, learning the Tombak
  and Tar. By fourteen he was already performing concerts\, and at
  seventeen he began touring internationally with his father.\n\nSince
  moving to the Netherlands in 2012 to study World Music at Codarts
  Conservatory in Rotterdam\, Reza has built a rich career as a soloist and
  collaborator\, performing on stages across Europe\, the Middle East\, and
  beyond. His artistry is rooted in the traditions of Persian classical
  music yet continually expands through dialogues with Indian\, jazz\, and
  contemporary experimental music.\n\nwww.instagram.com/rezamirjalali/
LOCATION:PLEKS.Fellbach\, Schorndorferstr 37/1\, 70736 Fellbach
GEO:48.8157601;9.2822573
ORGANIZER:mailto:PLEKS.Fellbach
END:VEVENT
END:VCALENDAR
