BEGIN:VCALENDAR
VERSION:2.0
PRODID:eintopf.info
METHOD:REQUEST
BEGIN:VEVENT
UID:5cd47b8e-9b84-413c-bcf5-1d0273a8c343
SUMMARY:Urban Sketch and Journal
DTSTART:20260502T130000Z
URL:https://eintopf.info/event/5cd47b8e-9b84-413c-bcf5-1d0273a8c343
CATEGORIES:DIY\,Kunst
DESCRIPTION:Wir treffen uns um im Park des Lapidarium zu sketchen und zu
  journalen. \nGemeinsam\, weil gemeinsam mehr Spaß macht! Bringt euch mit
  was ihr braucht :)
LOCATION:städtisches Lapidarium\, Treffpunkt am Tor
ORGANIZER:mailto:creativecraften
END:VEVENT
END:VCALENDAR
