BEGIN:VCALENDAR
VERSION:2.0
PRODID:eintopf.info
METHOD:REQUEST
BEGIN:VEVENT
UID:5b70b9e6-204b-41a7-9ab8-20e52b36f1f9
SUMMARY:Begegnungscafé International 
DTSTART:20241212T160000Z
URL:https://eintopf.info/event/5b70b9e6-204b-41a7-9ab8-20e52b36f1f9
DTEND:20241212T180000Z
CATEGORIES:Gesellig\,Sonstiges
DESCRIPTION:Im Begegnungscafé gibt es Kaffee und Tee und Zeit für
  Gespräche. \nHier kannst du Deutsch üben oder Menschen bei
  Deutschlernen unterstützten\, Menschen kenenlernen und Fragen rund umd
  das Leben in Fellbach stellen. \n\nJeden ersten Donnertsag im Monat wird
  für alle leckeres Essen gekocht. \n
LOCATION:PLEKS.Fellbach\, Schorndorferstr 37/1\, 70736 Fellbach
GEO:48.8157601;9.2822573
ORGANIZER:mailto:PLEKS.Fellbach
END:VEVENT
END:VCALENDAR
