BEGIN:VCALENDAR
VERSION:2.0
PRODID:eintopf.info
METHOD:REQUEST
BEGIN:VEVENT
UID:5abb06f9-f898-4246-8e60-5ee99eb0662f
SUMMARY:CSD Basteltreff für Queers und Allys jeden Alters
DTSTART:20260606T120000Z
URL:https://eintopf.info/event/5abb06f9-f898-4246-8e60-5ee99eb0662f
DTEND:20260606T160000Z
CATEGORIES:Offenes Treffen\,Queer
DESCRIPTION:Am 06.06. basteln wir gemeinsam Schilder für die CSD Saison.
  Anders als bei unseren anderen Treffs sind an diesem Termin Queers und
  Allys jeden Alters herzlich eingeladen. Mehr Infos folgen!\n\nHast Du
  Lust mit zu einem CSD Ausflug zu kommen? Dann schreib uns!\nWir suchen
  auch dringend Menschen\, die unsere Jugendgruppe für einen Ausflug
  punktuell unterstützen können.\n\n\n🏳️‍🌈 Der Rems-Queer-Kreis
  ist eine offene LSBTTIQA* Jugendgruppe\, die Anfang 2020 aus
  Eigeninitiative von queeren Jugendlichen entstand. Seitdem findet jeden
  ersten Samstag im Monat unser Gruppentreffen mit wechselnden
  Themenschwerpunkten statt\, bei dem wir uns chillen\, quatschen und einen
  Tisch mit Flyern und Büchern aufgebaut haben.\n\n📆 Meistens treffen
  wir uns am ersten Samstag im Monat von 14-18 Uhr in der Mühlstraße 3\,
  71522 Backnang. Der genaue Treffpunkt und Themenschwerpunkt werden
  spätestens zwei Wochen vor dem Treffen veröffentlicht.\n\n💰 Wir
  versuchen alle unsere Angebote kostenlos zu machen. Wenn etwas Geld
  kostet\, steht das extra dabei.\n\n🏳️‍⚧️ Die Gruppe ist offen
  für alle Jugendliche bis 27 Jahre\, die sich als lesbisch\, schwul\,
  bisexuell\, pansexuell\, trans\, inter\, queer\, asexuell oder
  aromantisch etc. identifizieren. Auch Allys\, Neugierige und Menschen\,
  die sich fragen ob sie vielleicht queer sind\, sind willkommen.\n\n👥
  Der Jugendtreff ist ein Projekt der AWO Backnang.\n\n🫵🏽 Hast du
  Lust queere Jugendarbeit im ländlichen Raum zu unterstützen? Dann werde
  Teil unseres Orga Teams\, denn der Rems-Queer-Kreis lebt von uns Queers\,
  die sich das Programm selbst gestalten! Schreib uns eine Privatnachricht
  oder komm zu einem offenen Orga Treffen! Die Termine findest du auf
  unseren Socials.\n\nInstagram: @rems_queer_kreis\nMastodon:
  lsbt.me/@rems_queer_kreis
LOCATION:Juze Backnang\, Mühlstraße 3\, Backnang
GEO:48.94637055;9.42021475
ORGANIZER:mailto:Rems Queer Kreis
END:VEVENT
END:VCALENDAR
