BEGIN:VCALENDAR
VERSION:2.0
PRODID:eintopf.info
METHOD:REQUEST
BEGIN:VEVENT
UID:5a57c4f9-df82-4404-892b-86ede896f2b0
SUMMARY:Aktionstraining
DTSTART:20210724T080000Z
URL:https://eintopf.info/event/5a57c4f9-df82-4404-892b-86ede896f2b0
DTEND:20210724T113000Z
DESCRIPTION:\nZiviler Ungehorsam\, Protestieren und Blockieren will geübt
  sein. Das Training richtet sich sowohl an aktionsunferfahrene Menschen
  als auch an Erfahrenere und soll unsere gemeinsame Handlungsfähigkeit in
  verschiedenen Situationen auf Straße und Acker erhöhen. Zusätzlich
  werden wir (schnelle) Entscheidungsfindung in Stresssituationen\, den
  Umgang mit eigenen Ängsten und Grenzen sowie staatlicher Repression
  behandeln. 
LOCATION:Klimacamp Stuttgart 2021\, Zirkuszelt
ORGANIZER:mailto:Kesselbambule,Kesselbambule
END:VEVENT
END:VCALENDAR
