BEGIN:VCALENDAR
VERSION:2.0
PRODID:eintopf.info
METHOD:REQUEST
BEGIN:VEVENT
UID:59815a35-9d4b-4dac-bef9-f2c073424fd5
SUMMARY:Gemeinsames Plätzchenbacken (vegan edition)
DTSTART:20241201T093000Z
URL:https://eintopf.info/event/59815a35-9d4b-4dac-bef9-f2c073424fd5
CATEGORIES:Gesellig\,Ernährung
DESCRIPTION:Hallo zusammen\,\nhiermit möchten wir euch am 01.12.24 zum
  veganen Plätzchen-Backen in Bad Cannstatt einladen\, nur 1 Gehminute vom
  Bhf Bad Cannstatt. Mit zwei großen Gastronomie-Backöfen wollen wir nach
  Herzenslust nach alten und neuen Rezepten backen. Eingeladen sind auch
  Nicht-Veganer\, die vegane Rezepte ausprobieren möchten.\n\nZum
  Ablauf:\nBeginn um 10:30 Uhr\, Ende gegen 14 Uhr.\nAlle benötigten
  Zutaten für die Plätzchen müssen selbst mitgebracht werden.\nObwohl
  unsere Küche viele Utensilien vorhält\, empfehlen wir\, alles
  mitzubringen\, was ihr zum Backen benötigt:\nRezepte\, Schüsseln\,
  Waage\, Messbecher\, Rührgerät\, Schaber\, Nudelholz\, Ausstechformen\,
  Backpapier\, Schürze\, etc. Nicht alle unsere Tischflächen eignen
  sich\, um darauf mit Teig zu arbeiten. Bitte bringt deswegen eine
  geeignete Unterlage mit\, um Teig zu kneten und auszurollen (kann auch
  Backpapier sein). \nWeil Backen hungrig und durstig macht\, bringt euch
  etwas zum Snacken und Getränke nach eigener Vorliebe (Glühwein\, Saft\,
  Smoothie\, Kakao\, Tee\, Kaffee in Thermoskanne\, French Press) mit. \nAm
  Ende können die frisch gebackenen Kekse gerne geteilt und getauscht
  werden!\n\nWie zu finden?\nWir nutzen die Räume von commons kitchen in
  dem ehemaligen Schwabenbräu-Gebäude\, gegenüber vom Bahnhof Cannstatt.
  In der Fußgängerzone befindet sich der Eingang mit dunkelrot
  gestrichenem Metalltor. Dort eine Treppe hoch.\n\nFür alle Back-Neulinge
  noch ein paar Infos:\n+ Eine Anmeldung ist nicht erforderlich\, die
  Teilnahme ist kostenlos.\n+ Um am Ende keine Lebensmittel-Reste wegwerfen
  zu müssen\, bringt bitte leere Tupperdosen mit.\n+ Vegan sind alle
  Zutaten ohne tierische Bestandteile. Auch Ei\, Milch\, Sahne\, Honig oder
  manche Fette sind nicht vegan\, falls nicht anders gekennzeichnet.\n+ Um
  Kosten für Strom\, Wasser\, Heizung und Verbrauchsmittel zu decken\,
  werden wir eine Spendendose aufstellen.\n+ Es wäre toll\, wenn sich am
  Ende der Veranstaltung einige Freiwillige finden\, die uns beim
  Aufräumen und Durchfegen noch unterstützen.\n\nBei Fragen\, wendet euch
  gerne an uns!\nBeste Grüße\, Christian und Gero\n\nps: bitte checkt
  diesen Termin noch einmal kurz vorher wegen evt. möglicher Änderungen\n
LOCATION:In den Räumen von Commons Kitchen\, Bad Cannstatt. 1. OG\,
  Bahnhofstraße 14-18.\, Im ehem. Schwabenbräu-Gebäude\, jetzt Prisma.
ORGANIZER:mailto:Gero/ Christian
END:VEVENT
END:VCALENDAR
