BEGIN:VCALENDAR
VERSION:2.0
PRODID:eintopf.info
METHOD:REQUEST
BEGIN:VEVENT
UID:592da869-7eae-4962-9e13-5c025c501a3e
SUMMARY:Was ist und wie geht SoLaWiS
DTSTART:20251018T110000Z
URL:https://eintopf.info/event/592da869-7eae-4962-9e13-5c025c501a3e
CATEGORIES:DIY\,Ernährung
DESCRIPTION:Bei diesem Infomittag erfährst du alles\, was zum Mitmachen
  bei der Solidarischen Landwirtschaft Stuttgart wichtig ist. Die nächste
  Saison beginnt im Januar 2026. Aber bereits Ende November 2025 machen wir
  eine Bietrunde\, an der alle teilnehmen\, die (wieder) dabei sein wollen.
LOCATION:Reyerhof\, Unteraicher Str. 8\, 70567 Stuttgart
GEO:48.7244278;9.144928017131475
ORGANIZER:mailto:Solidarische Landwirtschaft Stuttgart
END:VEVENT
END:VCALENDAR
