BEGIN:VCALENDAR
VERSION:2.0
PRODID:eintopf.info
METHOD:REQUEST
BEGIN:VEVENT
UID:57c6d652-da46-47c2-a9d1-4d59a31f8580
SUMMARY:Mist! Ein Stallbau
DTSTART:20241030T180000Z
URL:https://eintopf.info/event/57c6d652-da46-47c2-a9d1-4d59a31f8580
CATEGORIES:Sonstiges\,Ernährung
DESCRIPTION:Kühe spielen eine wichtige Rolle am Reyerhof\, da ihr Mist zur
  Düngung der Felder genutzt wird. Leider stehen die Milchkühe momentan
  etwas beengt im Stall und haben keinen Zugang zur Weide\, außer wenn sie
  für kurze Zeit keine Milch geben. Das soll sich ändern. Anna Laura
  berichtet von ihrer Arbeit mit den Tieren\, zeigt Zusammenhänge der
  Reyerhofphilosophie und gibt eine Perspektive\, wie sich die Situation
  der Kühe ändern könnte.
LOCATION:Reyerhof\, Unteraicher Str. 8\, 70567 Stuttgart
GEO:48.7244278;9.144928017131475
ORGANIZER:mailto:Solidarische Landwirtschaft Stuttgart
END:VEVENT
END:VCALENDAR
