BEGIN:VCALENDAR
VERSION:2.0
PRODID:eintopf.info
METHOD:REQUEST
BEGIN:VEVENT
UID:5634df14-169b-4b69-91af-2840ae47f7a0
SUMMARY:No Safe Abortion on the move?
DTSTART:20250920T160000Z
URL:https://eintopf.info/event/5634df14-169b-4b69-91af-2840ae47f7a0
CATEGORIES:Workshop\,Feminismus
DESCRIPTION:this saturday @rollingsafespace_stuttgart will come to our
  kiosk with an interactive exhibition around the topic "No Safe Abortion
  on the move?" in which we are looking forward to learn and share
  knowledge with all of you. Afterwards we'll have a pub quizz ofc with a
  cool prize 🏆 for the winner! and finally we will also paint together
  signs for the International Safe Abortion Day demo on Sunday 28th.
LOCATION:UTOPIA Kiosk\, Lazarettstraße 5\, 70182 Stuttgart
GEO:48.7730256;9.18134848847793
ORGANIZER:mailto:UTOPIA Kiosk & ROSA Stuttgart
END:VEVENT
END:VCALENDAR
