BEGIN:VCALENDAR
VERSION:2.0
PRODID:eintopf.info
METHOD:REQUEST
BEGIN:VEVENT
UID:5410d930-a13d-40a7-92b4-8f168a7d21c1
SUMMARY:Stille Mahnwache für Aleyna
DTSTART:20250729T060000Z
URL:https://eintopf.info/event/5410d930-a13d-40a7-92b4-8f168a7d21c1
DTEND:20250729T070000Z
CATEGORIES:Demonstration\,Feminismus
DESCRIPTION:Am 14. Juli 2025 hat vor dem Landgericht Stuttgart der Prozess
  um den Femizid an der 25-jährigen Studentin Aleyna begonnen.\nIm Januar
  dieses Jahres wurde sie in ihrer eigenen Wohnung von einem 33-jährigen
  flüchtigen Bekannten aus dem Fitnessstudio ermordet. Er entschied sich\,
  ihr Leben zu beenden – eine grausame Tat\, die uns alle
  erschüttert.\nNach unserer Demonstration im Januar möchten wir Aleyna
  weiterhin eine Stimme geben und patriarchaler Gewalt entschieden
  entgegenstehen.\n\nWir rufen dazu auf\, am dritten Prozesstag –
  Dienstag\, den 29. Juli 2025 – ein stilles Zeichen zu setzen.\nZwischen
  8:00 Uhr und 9:00 Uhr morgens wollen wir uns vor dem Landgericht
  Stuttgart (Eingang in der Ulrichstraße) versammeln – für eine stille
  Mahnwache\, in Gedenken an Aleyna und als Zeichen unserer
  Solidarität.\n\nEin Angriff gegen Eine ist ein Angriff gegen uns Alle!
  Keine Einzige mehr – ni una menos!
LOCATION:Landgericht Stuttgart
ORGANIZER:mailto:Frauenkollektiv Stuttgart,organisierte autonomie Stuttgart
END:VEVENT
END:VCALENDAR
