BEGIN:VCALENDAR
VERSION:2.0
PRODID:eintopf.info
METHOD:REQUEST
BEGIN:VEVENT
UID:53d126b6-0181-4eee-82f8-6d26803bd03c
SUMMARY:Vortrag & Diskussion: 100% Erneuerbare Energie - geht das?
DTSTART:20241009T170000Z
URL:https://eintopf.info/event/53d126b6-0181-4eee-82f8-6d26803bd03c
CATEGORIES:Podiumsdiskussion\,Klimagerechtigkeit
DESCRIPTION:\n\nJedes Kohlen-Dioxid-Molekühl bleibt für 10.000 Jahre in
  der Atmosphäre\, bevor es im natürlichen Kreislauf wieder abgebaut
  wird. CO2 heizt jedoch den Planeten auf. Daher ist es so wichtig\, dass
  wir sämtliche menschlichen Aktivitäten schnellst-möglich CO2-neutral
  umbauen. Die größte Baustelle ist unsere Energie- und
  Wärme-Versorgung.\n\nLasst uns dazu ins Gespräch kommen:
  Regional-Treffen S4F Stuttgart im Oktober 2024 – Gestalte mit! 09.10.
  ab 19 Uhr in der Raupe Immersatt (S-West).\n\nFür eine klima-resiliente
  Versorgung mit Energie und Wärme stellen sich also die
  Fragen:\n\nKönnen wir bis 2045 den Bedarf zu 100% aus erneuerbarer
  Energie-Erzeugung decken – in Deutschland\, in Europa\, der ganzen
  Welt? Reichen die Rohstoffe für dieses ambitionierte Vorhaben? Sind die
  Energie- und Wärme-Wende hin zur Zirkularität bezahlbar? Wie hoch ist
  der Flächen-Bedarf? Zerstören wir damit Natur und Landschaft? Holen wir
  uns neue Probleme? Bedeutet der Umbau Verzicht und schlechtere
  Lebens-Qualität?\nWie können wir wirksam werden?\n\nWissenschaftlicher
  Impuls-Geber des Abends ist Jakob Leweke. Jakob studierte
  Umweltschutz-Technik an der Uni Stuttgart (Abschlussarbeit zum Thema
  Hochtemperatur-Brennstoffzellen). Heute arbeite er beim IT-Dienstleister
  Sphera\, die sich auf das nachhaltige Reporting spezialisieren. So wirkte
  er beispielsweise an Öko-Bilanz-Projekten für Busse und Autos mit. Mit
  hohem Interesse verfolgt er sämtliche Themen rund um erneuerbare
  Energie-Versorgung\, alternative Antriebe und nachhaltige
  Mobilitäts-Konzepte. Dabei schaut er nicht nur auf die Probleme\,
  sondern hält sich insbesondere bezüglich technischer Neuerungen auf dem
  Laufenden\, um interessante Lösungen für den Klimaschutz präsentieren
  zu können.\n\nMehr Informationen zum geplanten Ablauf und
  Veranstaltungsort findest Du via Veranstaltungen. Bitte hier entlang: S4F
  Stuttgart Regional-Gruppen-Treffen 2024-10.\n
LOCATION:Raupe Immersatt\, Johannesstraße 97\, Stuttgart
GEO:48.782018;9.1579717
ORGANIZER:mailto:Scientists4Future
END:VEVENT
END:VCALENDAR
