BEGIN:VCALENDAR
VERSION:2.0
PRODID:eintopf.info
METHOD:REQUEST
BEGIN:VEVENT
UID:53a36428-9a89-4902-9735-5c8fbe9744a1
SUMMARY:Konzert: Joe Astray (Indie Folk) & Lucky Ginger (Punkrock)
DTSTART:20241121T190000Z
URL:https://eintopf.info/event/53a36428-9a89-4902-9735-5c8fbe9744a1
CATEGORIES:Konzert & Party\,Sonstiges
DESCRIPTION:Herbst heißt wieder Konzerte-Zeit in der Raupe. Freut euch auf
  tolle Künstler:innen aus der Region. Diesmal dabei: Joe Astray und Lucky
  Ginger!\n\nJOE ASTRAY (FOLK/INDIE – HAMBURG/KARLSUHE)\nAbseits.
  Absonderlich. Abwegig. Dies sind häufig auftretende Zustände in einer
  Welt\, die sich stetig weiterentwickelt und in welcher der Fortschritt
  mit rasender Geschwindigkeit voranschreitet. Die Beständigkeit ist eine
  unbekannte Variabel geworden\, die dazu führt\, dass unzählige Menschen
  auf der Strecke bleiben. Joe Astray ist ein Künstler\, der dieses
  vielschichtige Dilemma erfolgreich annimmt und durch aufrichtige und
  authentische Indie-Musik reflektiert. Der Singer-Songwriter ist ein
  musikalischer Nomade\, dessen Musik ein wahres Kaleidoskop darstellt\,
  welche unverfroren durch die Annalen der Musikgeschichte reist und
  Dutzende ihrer Elemente inkorporiert. Schwere\, gesellschaftskritische
  Texte vermengen sich mit volatilen\, unberechenbaren Kompositionen zu
  einem verdammt spannenden Gemisch\, das eine unmissverständliche eigene
  Handschrift aufweist. Alltagssituationen und die dazugehörigen Gedanken
  werden von Joe Astray verarbeitet und insbesondere der Musikzirkus und
  dessen absurde Ernsthaftigkeit werden mit bissigem\, dennoch charmantem
  Humor auseinandergenommen. Besonders interessant ist dabei der
  enigmatische Akzent beim Gesang von Joe Astray\, der niemals konkret
  geografisch zugeordnet werden kann. Einflüsse reichen von The Eels\,
  Bright Eyes\, Leonard Cohen\, bis hin zum sardonischen\, sozialkritischen
  Humor eines Billy Bragg\, es existiert jedoch eindeutig eine klare Punk
  Rock-DNA in Joe Astray ́s Schaffen. Der Name ist Programm\, denn Joe
  Astray ist alle und niemand zugleich\, der Lieder für Landlose und
  Enteignete schreibt\, ein wandelndes Mysterium\, was in keine Schublade
  gesteckt werden kann und der trotz aller Dunkelheit noch immer eine Kerze
  der Hoffnung ausgestreckt in die Höhe hält.\n\nLUCKY GINGER (PUNKROCK
  – KARLSUHE)\nLucky Ginger aus Karlsruhe beschallen auch im zwanzigsten
  Jahr ihres Bestehens die Republik mit feinstem Punkrock der alten Schule.
  Und da Geburtstagfeiern gesellschaftlichkonform ist\, wird es Ende des
  Jahres noch ein paar exklusive “20 Years of Luck’nRoll“
  Jubiläumsshows geben! Dabei wird es aber nicht nur um die
  Beweihräucherung der großen Erfolge aus zwanzig Jahren Bandliebe
  gehen\, sondern auch um die Weichenstellung für die Zukunft. Klar\, auch
  weiterhin wird man wohl irgendwo zwischen alten Meistern wie
  BadReligion\, The Descendents und The Bouncing Souls zu finden sein und
  die Finger in allerhand Wunden unserer Zeit legen. Ein bisschen
  erwachsener und gereifter dürfte es in der dritten Banddekade dann aber
  wohl doch zu gehen\, sind alle vier Bandmitglieder doch inzwischen von
  anderen Projekten\, Jobs\, Weltschmerz und insgesamt vom Leben
  gezeichnet. Wer zudem Frontmann Joe Astray mit seinem Solo-Projekt
  bereits live erlebt hat\, kann mit Lucky Ginger den alten neuen Joe
  kennenlernen\,  gereift aber doch wieder zu den Wurzeln zurückgekehrt.
  Und so touren die Vier mit einem gesunden Mix aus Altem und Neuem auch
  nach zwanzig Jahren weiterhin wie frisch aus dem Ei gepellt durch die
  Lande. Forever twenty\, let the Luck return!\n\nZUM THEMA EINTRITT UNS
  EINTRITTSPREISE\nDamit wir Künstler:innen eine Gage sowie alle Kosten
  für Technik\, GEMA & Co. decken können\, sind wir auf eure
  Unterstützung angewiesen. Da wir das solidarisch handhaben wollen\,
  dürft ihr euren Wertschätzungsbeitrag ganz individuell wählen. Ihr
  ermöglicht mit eurer freiwilligen Kulturspende\, dass es unsere ideelle
  Vereinsarbeit sowie derartige Veranstaltungen in der Raupe zukünftig
  weiter geben kann.
ORGANIZER:mailto:Raupe Immersatt
END:VEVENT
END:VCALENDAR
