BEGIN:VCALENDAR
VERSION:2.0
PRODID:eintopf.info
METHOD:REQUEST
BEGIN:VEVENT
UID:539ff5c1-78ab-4ff0-ab1a-057847b2b212
SUMMARY:Bike Night Stuttgart Ausgabe 02/10
DTSTART:20251009T170000Z
URL:https://eintopf.info/event/539ff5c1-78ab-4ff0-ab1a-057847b2b212
CATEGORIES:Gesellig\,Mobilität
DESCRIPTION:🚴‍♀️🚴‍♂️✨ Ab jetzt  - sofern es geht -
  Wöchentlich!\n\nAm 09.10 - Ausgabe 02/10 - die zweite Stuttgarter Bike
  Night! 🌙🌆\n\n📍Wir treffen uns wieder auf 19 Uhr am Flora &
  Fauna\n\n❓ Was ist die Stuttgarter Bike Night?\n\nWir wollen einen
  Groupride schaffen für Menschen\, die sich in den sportlich fokussierten
  Radausfahrten vielleicht nicht ganz wohlfühlen 🤝💜 Eine 🚲
  Fahrradausfahrt durch Stuttgart\, bei der der Spaß am Radeln ganz oben
  steht 😄🙌.\n\nWir verstehen uns als inklusive Gruppe 🌍✨\, die
  einen sicheren Ort ohne Diskriminierung schaffen möchte\, an dem sich
  alle wohl und willkommen fühlen können! 🏳️‍🌈💫.\n\nAlso
  komm mit 👉🚲💡 und erkunde mit uns bunt leuchtend 🌈✨ die
  Stadtteile Stuttgarts 🏙️💛
LOCATION:Am Schwanenplatz 10 70190\, Schwanenplatz 10 Stuttgart
GEO:48.7968675;9.2051537
ORGANIZER:mailto:Stuttgart Bike Night
END:VEVENT
END:VCALENDAR
