BEGIN:VCALENDAR
VERSION:2.0
PRODID:eintopf.info
METHOD:REQUEST
BEGIN:VEVENT
UID:53555df9-9b5c-4187-9e5a-095728cc8be6
SUMMARY:Aktionstage Zaun(aus)bau Kleine Wildnis
DTSTART:20260306T150000Z
URL:https://eintopf.info/event/53555df9-9b5c-4187-9e5a-095728cc8be6
DTEND:20260306T180000Z
CATEGORIES:Workshop\,Klimagerechtigkeit
DESCRIPTION:Aktionstage Zaun(aus)bau - damit die Rehe im Wald bleiben und
  das Gemüse auf dem Beet.\n\nFreitag 6. März 16-19 Uhr (19 Uhr
  gemeinsames Abendessen)\nSamstag 7. März 10-16 Uhr (12:30 gemeinsames
  Mittagessen)\n\nAnmeldung bis zum 3. März an
  kleinewildnis@riseup.net\n\nweitere Infos
  https://kleinewildnisstuttgart.de/2026/02/03/gruendung-der-garten-giess-u
 nd-sensengruppen-2026-alle-kleine-wildnis-gartentermine-2026/\n\nDie
  Nachbarschaftsgärten sind\n...Erfahrungs- und
  Begegnungsorte\n...Bildungsorte für Naturerfahrung und
  Gemeinschaft\n...Orte um sich mit der Lebendigkeit unserer Mutter Erde zu
  verbinden\n\nBei uns soll groß und klein willkommen sein. Wir gehen
  respektvoll mit Mensch\, Tier und Natur um. Wir sind selbstorganisiert
  und teilen Verantwortung\, Wissen und Ernte.\nEs wird gesenst\,
  gegärtnert\, gegossen\, gelernt und Jahreszeitenfeste
  gefeiert.\n\nHerzliche Einladung auch mit dabei zu sein! Neugierig\,
  erfahren oder unerfahren!
LOCATION:Kleine Wildnis Gemeinschaftsgarten\, Ruiterstraße 50
GEO:48.75382;9.2538
ORGANIZER:mailto:Kleine Wildnis Stuttgart
END:VEVENT
END:VCALENDAR
