BEGIN:VCALENDAR
VERSION:2.0
PRODID:eintopf.info
METHOD:REQUEST
BEGIN:VEVENT
UID:51ef6fcf-f3e0-49d4-a39a-da81b595a57c
SUMMARY:VICKED – Jetzt aber gut
DTSTART:20251115T180000Z
URL:https://eintopf.info/event/51ef6fcf-f3e0-49d4-a39a-da81b595a57c
CATEGORIES:Sonstiges\,Queer
DESCRIPTION:So langsam reichts – mit „VICKED – Jetzt aber
  gut“*\n*Die Wiederaufnahme\, mit ein paar neuen Witzen.\n \nZum Anlass
  der Filmpremiere „Wicked\, For Good“ performen 10 regionale
  Drag-Artist eine humorvolle Adaption des Broadway Klassikers als die
  Drag-Musical-Extravaganza-Show „Vicked“. Erwartet keinen
  Live-Gesang.\nDas Land Oz wurde in einen Cis-hetero-normativen Staat
  verwandelt. Zwölfaba wird in dieser Zeit nicht nur mit grüner Hautfarbe
  geboren\, sondern auch als Dragqueen. Schnell erfährt Sie an der
  Universität\, dass Sie als Dragqueen in einer Cis-hetero-normativen Welt
  nicht zurechtkommt. Als Sie dann eine Audienz beim Bürgermeister von der
  grauen Blechstatt hat\, um sich für alle Zeiten abzuschminken\, fällt
  Ihr der Schwindel vom Bürgermeister auf und flieht. Zusammen mit Ihrer
  Freundin Grinda die Schwule\, versucht Sie die Propaganda von Madam Laber
  und dem Jizzer von Jizz zu entlarven.\n \nORT & TERMINE\nKulturinsel
  Stuttgart\, Güterstraße 4\, 70372 Stuttgart\n \n15. November 2025\,
  19:30 Uhr\, Einlass 19:00 Uhr\n \nEINTRITT & TICKETS\nNormalpreis:
  20\,-€\nermäßigt: 16\,-€\n \nTickets unter:
  https://www.eventim-light.com/de/a/689a1a9d4451ed23a93250e3/e/68eb9660d3b
 6dd78d7aacf06?lang=de\n \nMITWIRKENDE\nMit dabei ist ein diverser Cast an
  Drag-Performer*innen aus der Region Stuttgart:\nQueen Henni als
  Zwölfaba\nMiss Perm als Grinda die Schwule\nVeronica Mont Royal als
  Madam Laba\nBently Bentaega als Jizzer von Jizz\nZlata als
  Fagero\nElekktra Heart als Dorothy und Spoq\nHades of Drag als die böse
  Hexe ausm Osten\nAlpine Ski als der ängstliche Löwe Pussy\nCherry Bliss
  als Dr. Billamonth\nInge Ringle als der Zeitdrache\n\nVielen Dank an
  unsere Unterstützer*innen:\nEsro Jersey Stoffvertrieb e.K.\nFrau Blum -
  Boutique Erotique\nHairdo by Henni\nSchmetterlingshaus Stuttgart\n
LOCATION:Kulturinsel\, Güterstraße 4\, 70372 Stuttgart
GEO:48.7974711;9.2264063
END:VEVENT
END:VCALENDAR
