BEGIN:VCALENDAR
VERSION:2.0
PRODID:eintopf.info
METHOD:REQUEST
BEGIN:VEVENT
UID:51d4dfff-6634-4cf4-a163-00b9dbf7a385
SUMMARY:SoLaWiS Hofeinsatz auf dem Reyerhof
DTSTART:20260815T073000Z
URL:https://eintopf.info/event/51d4dfff-6634-4cf4-a163-00b9dbf7a385
DTEND:20260815T103000Z
CATEGORIES:DIY\,Ernährung
DESCRIPTION:
LOCATION:Ort wird kurzfristig bekanntgegeben
ORGANIZER:mailto:Solidarische Landwirtschaft Stuttgart
END:VEVENT
END:VCALENDAR
