BEGIN:VCALENDAR
VERSION:2.0
PRODID:eintopf.info
METHOD:REQUEST
BEGIN:VEVENT
UID:518a9c03-1b92-49f8-9ec0-27242b18f024
SUMMARY:In Verbundenheit mit mir und meinem Kind - Kinder begleiten in
  Verbindung und Leichtigkeit
DTSTART:20251102T090000Z
URL:https://eintopf.info/event/518a9c03-1b92-49f8-9ec0-27242b18f024
DTEND:20251102T130000Z
CATEGORIES:Workshop\,Sonstiges
DESCRIPTION:Wir wollen unseren Kindern alles geben\, was sie brauchen\,
  dabei noch den Alltag navigieren und möglichst selbst nicht zu kurz
  kommen. Dabei bleibt manchmal die Leichtigkeit auf der Strecke und die
  Verbindung zu uns und unsren Lieben leidet...\nKindliche Gehirne durch
  laufen eine ganz besondere Phase der (Gehirn-) Entwicklung\, die oft
  besonders schön und mitunter auch sehr herausfordernd ist. Wenn wir
  verstehen\, was im Kind vor sich geht und darauf angemessene Antworten
  finden\, kann das einen großen Einfluss auf unseren Alltag mit den
  geliebten Kleinen haben.\nIn diesem Workshop nutzen wir Erkenntnisse aus
  der Gewaltfreien Kommunikation\, Entwicklungspsychologie und
  Trauma-Forschung\, um uns wieder dem hinwenden können\, was essentiell
  gebraucht ist - für die Kinder und für uns Erwachsene.\nNeben Input
  über kindliche Entwicklung nehmen wir uns auch viel Raum zum Eintauchen
  und spüren - wir geben dem Sein in Verbundenheit Vorrang vor der Jagd
  nach dem perfekten
  Elternsein.\nAnmeldung:\nwww.gfk-info.de/seminar/in-verbundenheit-mit-mir
 -und-meinem-kind \n\nKosten: 25/35/45€ - je nach deinen
  Möglichkeiten!\n\nWorkshopleitung:\nJanne Hanoun Ellenberger (sie/ihr)
  ist Mama\, Trainerin für Gewaltfreie Kommunikation\, trauma-sensible
  Therapeutin und Eltern-Beraterin mit viel Wissen um kindliche
  Entwicklung.\nwww.gluecklicherleben.org 
LOCATION:EKiZ\, Eltern-Kind-Zentrum\, Stuttgart-West\, Ludwigstr. 41-43\,
  70176 Stuttgart\, 2. Stock
GEO:48.7737658;9.1611123
ORGANIZER:mailto:Janne Ellenberger & GFK-Netzwerk Stuttgart
END:VEVENT
END:VCALENDAR
