BEGIN:VCALENDAR
VERSION:2.0
PRODID:eintopf.info
METHOD:REQUEST
BEGIN:VEVENT
UID:50f30b90-b6cd-45fe-ac6f-31d2ddfe538e
SUMMARY:Critical Mass Stuttgart Februar 26
DTSTART:20260206T173000Z
URL:https://eintopf.info/event/50f30b90-b6cd-45fe-ac6f-31d2ddfe538e
DTEND:20260206T210000Z
CATEGORIES:Gesellig\,Mobilität
DESCRIPTION:Die Critical Mass: mehr als nur eine Radtour in der Stadt.
  criticalmassstuttgart.wordpress.com  Auf dieser Karte werden geplante
  Strecken veröffentlicht. Je nach den aktuellen Bedingungen kann der
  Verlauf in Abstimmung mit der Einsatzleitung angepasst werden.  Infos
  auch auf criticalmass.in/stuttgart  \n\nLivetracking:
  https://www.criticalmaps.net/map#13/48.7831/9.1841
LOCATION:Feuerseeplatz\, Feuerseeplatz Stuttgart\, Feuerseeplatz
GEO:48.7730716;9.1648464
ORGANIZER:mailto:Critical Mass Stuttgart
END:VEVENT
END:VCALENDAR
