BEGIN:VCALENDAR
VERSION:2.0
PRODID:eintopf.info
METHOD:REQUEST
BEGIN:VEVENT
UID:4f03239e-63e7-4af4-bd61-923063fcd05d
SUMMARY:Jam Session im Januar
DTSTART:20260123T190000Z
URL:https://eintopf.info/event/4f03239e-63e7-4af4-bd61-923063fcd05d
CATEGORIES:Gesellig\,Kunst
DESCRIPTION:++++++++jetzt neu: mit Opening Act!++++++++\n\nWANTED: Alle die
  Musik machen wollen und alle die Lust auf Live-Musik haben.\n\nWir
  stellen\; Schlagzeug\, Bass\, Keys\, Gitarre und Mikrofone. Es gibt
  Getränke\, Livemusik\, Bänke zum sitzen und Barkeeper zum quatschen. Es
  wird schräge Töne und Taktfehler geben\, Freudentränen\, und ganz arg
  viel Liebe für Musik. Versprochen!\nKeine Beurteilung\, keine Grenzen\,
  keine Selbstdarstellung\, und Niemand der Dir sagt wie Du musizieren
  sollst.\nJedes Instrument das durch das Treppenhaus passt darf mit nach
  unten in den Veranstaltungsraum!\n…und hast Du schlechte Laune\, dann
  bring sie mit!\n\nWas wir wünschen: Respekt\, Akzeptanz\, Support\,
  Teilhabe\, Kommunikation\, Rücksicht und vielleicht auch eigene
  Instrumentenkabel und eigene Instrumente.
LOCATION:Stadtteilzentrum Gasparitsch\, Rotenbergstr. 125\, 70190 Stuttgart
GEO:48.788058;9.2116285
END:VEVENT
END:VCALENDAR
