BEGIN:VCALENDAR
VERSION:2.0
PRODID:eintopf.info
METHOD:REQUEST
BEGIN:VEVENT
UID:4e557869-f1f1-4199-8761-682d6cf71ea0
SUMMARY:Okay For Awakening
DTSTART:20241018T200000Z
URL:https://eintopf.info/event/4e557869-f1f1-4199-8761-682d6cf71ea0
DTEND:20241019T200000Z
CATEGORIES:Konzert & Party\,Sonstiges
DESCRIPTION:On Oktober 18\, Friday\, „Play For Awakening“ enters its
  third round with a stunning exhibition from such a talented artist! And
  Sunny welcomes the great autumn vibes. Let’s all unleash our beauty\,
  dance freely and exchange our energies in the autumn ambience. It will be
  a night full of joy\, music and renewal. Full line-up coming soon\, stay
  tuned!
LOCATION:Sunny High Club\, Bahnhofstr. 14\, 70372 Stuttgart
GEO:48.8025406;9.2170963
ORGANIZER:mailto:Sunny High
END:VEVENT
END:VCALENDAR
