BEGIN:VCALENDAR
VERSION:2.0
PRODID:eintopf.info
METHOD:REQUEST
BEGIN:VEVENT
UID:4e478e30-0653-42e9-adc4-e5a2029112b7
SUMMARY:Häkel- und Handarbeitsgruppe
DTSTART:20210905T130000Z
URL:https://eintopf.info/event/4e478e30-0653-42e9-adc4-e5a2029112b7
DTEND:20210905T150000Z
DESCRIPTION:Du hast Lust an Handarbeiten?\n\nDu kannst anderen vielleicht
  das Häkeln und Stricken beibringen?\nWir wollen nicht nur ein Häkelclub
  sein\, sondern gemeinsam in geselliger Runde handarbeiten\, uns Tipps und
  Anregungen geben\, uns austauschen und unterstützen – nicht nur beim
  Handarbeiten!\n\nWer hat Lust dabei zu sein?\nJeden ersten Sonntag im
  Monat ab 15 Uhr\n\nBring Nadeln\, Wolle und gute Laune mit!\nWir freuen
  uns auf Euch!
LOCATION:Stadtteilzentrum Gasparitsch\, Rotenbergstr. 125\, 70190 Stuttgart
GEO:48.788058;9.2116285
ORGANIZER:mailto:Stadtteilzentrum Gasparitsch
END:VEVENT
END:VCALENDAR
