BEGIN:VCALENDAR
VERSION:2.0
PRODID:eintopf.info
METHOD:REQUEST
BEGIN:VEVENT
UID:4cf46c6e-b3a3-4efe-80a3-f8b4c7eb0682
SUMMARY:Gasparitsch-Kneipe
DTSTART:20251121T180000Z
URL:https://eintopf.info/event/4cf46c6e-b3a3-4efe-80a3-f8b4c7eb0682
DTEND:20251121T215000Z
CATEGORIES:Gesellig\,Sonstiges
DESCRIPTION:jeden Freitag ab 20 Uhr mit leckerem Essen\, Getränke – in
  netter Atmosphäre
LOCATION:Stadtteilzentrum Gasparitsch\, Rotenbergstr. 125\, 70190 Stuttgart
GEO:48.788058;9.2116285
ORGANIZER:mailto:Stadtteilzentrum Gasparitsch
END:VEVENT
END:VCALENDAR
