BEGIN:VCALENDAR
VERSION:2.0
PRODID:eintopf.info
METHOD:REQUEST
BEGIN:VEVENT
UID:4b8a7864-9450-4fe6-a1c7-b49677b0590b
SUMMARY:Queer Bar
DTSTART:20250321T170000Z
URL:https://eintopf.info/event/4b8a7864-9450-4fe6-a1c7-b49677b0590b
DTEND:20250321T225500Z
CATEGORIES:Konzert & Party\,Queer
DESCRIPTION:Your new favorite hangout spot – a queer bar for the
  community\, serving up good vibes and even better drinks. Meet your
  friends here and just enjoy the night\, our hot bartenders have you
  covered with coffee\, beer\, sodas\, cocktails\, and more.\n\nWe are just
  a space to be yourself :)
LOCATION:UTOPIA Kiosk\, Lazarettstraße 5\, 70182 Stuttgart
GEO:48.7730256;9.18134848847793
ORGANIZER:mailto:UTOPIA Kiosk
END:VEVENT
END:VCALENDAR
