BEGIN:VCALENDAR
VERSION:2.0
PRODID:eintopf.info
METHOD:REQUEST
BEGIN:VEVENT
UID:4b765fd0-4810-4815-8ef4-c72bac1f12f7
SUMMARY:“Red Monsters” Album Release
DTSTART:20260328T190000Z
URL:https://eintopf.info/event/4b765fd0-4810-4815-8ef4-c72bac1f12f7
CATEGORIES:Konzert & Party\,Queer
DESCRIPTION:So it is the Album Release of PĀPĀ the Album is called “Red
  Monsters”\n\n28.03 at 20:00\n\n@miss_papa_papa on insta :*\n\nNO
  WORRIES\, PĀPĀ IS COMING\nno grid soft core music /\nfatal dyke/ soc.
  mother/\nfather figure\n\nUniversal Friend makes tender\, heartfelt songs
  somewhere between indie and pop\, combining guitar\, layered vocals\, and
  drum machine rhythms. Taking its name from the genderless preacher figure
  Public Universal Friend\, the project embraces a transsonic approach:
  moving through the currents of binary categorization while looking for
  ways to remain open\, fluid\, and not too easily pinned down.
LOCATION:UTOPIA Kiosk\, Lazarettstraße 5\, 70182 Stuttgart
GEO:48.7730256;9.18134848847793
ORGANIZER:mailto:UTOPIA Kiosk
END:VEVENT
END:VCALENDAR
