BEGIN:VCALENDAR
VERSION:2.0
PRODID:eintopf.info
METHOD:REQUEST
BEGIN:VEVENT
UID:4b657bd5-b439-4d85-8131-c37d9af7c539
SUMMARY:Singen für Alle
DTSTART:20240918T173000Z
URL:https://eintopf.info/event/4b657bd5-b439-4d85-8131-c37d9af7c539
DTEND:20240918T190000Z
CATEGORIES:Offenes Treffen\,IT
DESCRIPTION:Singen für alle\, was’n das? It’s NEW\, it’s EASY\,
  it’s FUN\nMusik aus dem Moment nur mit Stimme und Körper\nÄh\, what?
  Stimm-Improvisation mit Circle Songs nach Bobby McFerrin und anderen
  spielerischen Formaten.\nHuh? Rules? Sing\, sing and play… Actually 4
  Rules:\n\n1. es ist für alle\, erfahren\, unerfahren\, mutig\,
  schüchtern (ja\, duuuu auch)\n2. wir verwenden nur Stimme und Körper
  (claps\, snaps\, whatever)\n3. wir singen nur neues\, keine existierenden
  Lieder oder Kanons\n4. es ist gratis! Koscht nix! Für umme! Auch für
  Schwaben\n\nDieses erste Mal soll/kann der Beginn einer monatlichen (?)
  Reihe sein. Sei dabei und genieße die Freiheit und die Gemeinschaft der
  Stimmen.\nHmm … und wer macht das? Ich (Re Heller) singe selbst in
  Pop/Jazz-Chören. Vocal Improvisation fasziniert mich schon lange\, ich
  nehme jede Gelegenheit wahr\, die sich mir bietet\, um zu hören\, zu
  lernen\, auszuprobieren. Auf Festivals\, in Workshops und im Vocal
  Leadership Programm in Dänemark. Und den letzten Stups habe ich beim
  Circle Singing mit Gaël Aubrit bekommen\, der dieses „Dings“ (Singen
  für Alle\, Chant pour tou-te-s) in Frankreich mit begründet
  hat.\n\nAlso: KOMMT! MACHT MIT! HABT EINE GUTE ZEIT!
LOCATION:Sunny High Club\, Bahnhofstr. 14\, 70372 Stuttgart
GEO:48.8025406;9.2170963
ORGANIZER:mailto:Sunny High
END:VEVENT
END:VCALENDAR
