BEGIN:VCALENDAR
VERSION:2.0
PRODID:eintopf.info
METHOD:REQUEST
BEGIN:VEVENT
UID:4ad8e1b1-563f-4c96-ad30-965d98f87fea
SUMMARY:Kundgebung gegen die langjährige Kappung der Gäubahn
DTSTART:20250925T064500Z
URL:https://eintopf.info/event/4ad8e1b1-563f-4c96-ad30-965d98f87fea
DTEND:20250925T071500Z
CATEGORIES:Demonstration\,Mobilität
DESCRIPTION:Kundgebung in Stuttgart Nähe Hauptbahnhof im Innenhof der
  LBBW\n\nDie Gäubahn soll ab März 2027 abgehängt werden. Die
  Gäubahn-Züge würden dann nicht mehr bis Stuttgart Hbf durchfahren\,
  sondern in Stuttgart-Vaihingen enden. Hier müsste dann ein kompletter
  IC/RE auf eine sowieso schon volle S-Bahn umsteigen. Um zu zeigen\, wie
  wenig fahrgastfreundlich und umständlich das ist\, veranstaltet das Pro
  Gäubahn Landesbündnis zusammen mit dem ökologisch orientierten
  Verkehrsclub Deutschland (VCD) am 25. September eine Umsteigeaktion. Wir
  wollen zeigen\, wie wenig die schmalen Treppen und ein Aufzug am Bahnhof
  Vaihingen dafür geeignet sind\, dass ein voller IC mitsamt
  Kinderwägen\, Rollatoren und Fahrrädern den Bahnsteig wechseln und sich
  dann in eine volle S-Bahn drängen muss. Mit dieser Aktion wollen wir
  auch der Öffentlichkeit und der Politik zeigen\, dass die geplante
  Gäubahn-Kappung unzumutbar ist und storniert werden
  muss.\n\nhttps://pro-gaeubahn.de/detailansicht?tx_news_pi1%5Baction%5D=de
 tail&tx_news_pi1%5Bcontroller%5D=News&tx_news_pi1%5Bnews%5D=40&cHash=327a6
 5ad66fa3aab935fe4d862fa0172\nhttps://bw.vcd.org/der-vcd-in-bw/stuttgart/ga
 eubahnkappung-umstiegstest
LOCATION:Stuttgart Hauptbahnhof\, LBBW Innenhof
ORGANIZER:mailto:Pro Gäubahn,Gäubahn-Komitee,VCD Stuttgart
END:VEVENT
END:VCALENDAR
