BEGIN:VCALENDAR
VERSION:2.0
PRODID:eintopf.info
METHOD:REQUEST
BEGIN:VEVENT
UID:4a9cf0c9-0747-4a0d-b42a-f09b28914aae
SUMMARY:FLINTA* Bike Kitchen
DTSTART:20250325T130000Z
URL:https://eintopf.info/event/4a9cf0c9-0747-4a0d-b42a-f09b28914aae
DTEND:20250325T170000Z
CATEGORIES:Offenes Treffen\,Mobilität
DESCRIPTION:Dem Patriarchat die Laufräder abschrauben!\n\nAm 25.5.2025
  veranstalten wir von der Bike Kitchen Stuttgart wieder eine FLINTA*-only
  Bike Kitchen.\n\nFLINTA* bedeutet: alle Menschen\, die sich als Frauen\,
  Lesben\, Inter\, Non-binäre und Trans-Personen verstehen\, sind herzlich
  eingeladen\, mit uns gemeinsam an Fahrrädern zu schrauben.\n\nDu musst
  kein Vorwissen haben\, nur Bock\, mit uns zu schrauben. Wenn du gerade
  kein Fahrrad hast\, kannst du trotzdem einfach vorbeikommen\, mit uns
  essen und/oder mit den anderen Teilnehmis an den Fahrrädern
  basteln.\n\nWir freuen uns auf
  dich!\n\n----------------------------------------\n\nUnscrew the wheels
  of patriarchy!\n\nOn May\, 25th\, we from Bike Kitchen Stuttgart are
  organizing another FLINTA*-only Bike Kitchen.\n\nFLINTA* means: all
  people who identify as women\, lesbians\, intersex\, non-binary\, and
  trans persons are warmly invited to join us in working on
  bicycles.\n\nYou don't need any prior knowledge\, you just should like to
  work on bikes with us. If you don't currently have a bike\, you can still
  come by\, eat with us and/or tinker with the other participants on their
  bikes.\n\nWe are looking forward to see you!
LOCATION:Prisma\, Bahnhofstraße 14-18\, 70372 Stuttgart
GEO:48.8024492;9.2171569
ORGANIZER:mailto:Bike Kitchen Stuttgart
END:VEVENT
END:VCALENDAR
