BEGIN:VCALENDAR
VERSION:2.0
PRODID:eintopf.info
METHOD:REQUEST
BEGIN:VEVENT
UID:4a3bc1bf-1856-48de-8b31-12c9eb6d6c18
SUMMARY:Queering Urban Spaces - Minotaurs of the Peripheries
DTSTART:20250914T153000Z
URL:https://eintopf.info/event/4a3bc1bf-1856-48de-8b31-12c9eb6d6c18
CATEGORIES:Sonstiges\,Queer
DESCRIPTION:Dauerperformance mit abschließender Gesprächsrunde.
  Zuschauer*innen sind eingeladen\, zu jedem Zeitpunkt dazuzukommen\,
  zurückzukommen und zu gehen. \n\nThe unassimilables – beasts\, for
  sure.\n\nIn the cold labyrinth of the urban landscape\, they wove new
  routes and encountered equally unassimilable peers. They gathered the
  threads of what characterizes them and thus prospered.\n\nMinotaurs.
  Resplendent monsters that they are – neither exploitable nor exemplary
  exceptions.\n\nA performative installation by the Sereias Kollektiv\,
  from the basement to the rooftop\, from 5:30pm until the sun sets.
LOCATION:UTOPIA Kiosk\, Lazarettstraße 5\, 70182 Stuttgart
GEO:48.7730256;9.18134848847793
ORGANIZER:mailto:UTOPIA Kiosk
END:VEVENT
END:VCALENDAR
