BEGIN:VCALENDAR
VERSION:2.0
PRODID:eintopf.info
METHOD:REQUEST
BEGIN:VEVENT
UID:4a2f4499-6f80-4523-999f-794229782eb4
SUMMARY:BINGO!
DTSTART:20250328T190000Z
URL:https://eintopf.info/event/4a2f4499-6f80-4523-999f-794229782eb4
CATEGORIES:Gesellig\,Sonstiges
DESCRIPTION:In der Raupe dreht sich demnächst wieder die Bingo-Trommel.
  Wir laden zum gemeinsamen Bibbern\, Hoffen und Jubeln ein\, bis ihr die
  fünf richtigen Zahlen auf eurem Papier erspäht!\n\nZu gewinnen gibt’s
  allerlei Kuriositäten aus dem foodsharing-Café und für
  Bingo-König:innen auch etwas ganz Besonderes.\n\nWeitersagen\,
  Freund:innen einpacken und vorbeikommen! Alle Altersgruppen sind
  herzlichst eingeladen und gern gesehen:)\n
LOCATION:Raupe Immersatt\, Johannesstraße 97\, Stuttgart
GEO:48.782018;9.1579717
ORGANIZER:mailto:Raupe Immersatt
END:VEVENT
END:VCALENDAR
