BEGIN:VCALENDAR
VERSION:2.0
PRODID:eintopf.info
METHOD:REQUEST
BEGIN:VEVENT
UID:49de50c6-d090-4595-bbb7-f08d235313db
SUMMARY:Frühstück und Stadtteilspaziergang: Wem gehört die Stadt?
DTSTART:20240707T120000Z
URL:https://eintopf.info/event/49de50c6-d090-4595-bbb7-f08d235313db
CATEGORIES:Sonstiges\,Wohnen
DESCRIPTION:Sonntag\, 07. Juli\, ab 11 Uhr – Spaziergang ab 13
  Uhr\nTreffpunkt: Stadtteilzentrum Gasparitsch\n(Rotenbergstr. 125\, U4
  Ostendplatz\, U9 Raitelsberg)\n\nWir laden euch herzlich zu einem
  gemeinsamen Frühstück und einem informativen Stadtteilspaziergang
  ein!\n\nNach einem leckeren Frühstück starten wir unseren Spaziergang.
  An verschiedenen Stationen rund um das Areal werden wir einen Blick auf
  das Areal werfen und relevante Themen ansprechen\, darunter:\n\n   
  Welche Bedeutung das EnBW-Areal für uns und Stuttgart-Ost hat\n    Der
  aktuelle Stand der Bebauungspläne und Zukunftsperspektiven\n    Die
  Wohnsituation in Stuttgart\n    Die Frage\, wie Stadtgestaltung im Sinne
  der Bewohner*innen aussehen könnte.\n\nGemeinsam möchten wir die
  aktuelle Situation rund um das EnBW-Areal in Stuttgart-Ost erkunden und
  diskutieren.
LOCATION:Stadtteilzentrum Gasparitsch\, Rotenbergstr. 125\, 70190 Stuttgart
GEO:48.788058;9.2116285
ORGANIZER:mailto:organisierte autonomie Stuttgart
END:VEVENT
END:VCALENDAR
