BEGIN:VCALENDAR
VERSION:2.0
PRODID:eintopf.info
METHOD:REQUEST
BEGIN:VEVENT
UID:4976f1a2-93ab-480d-81a5-9a5f42caec8c
SUMMARY:Feministischer Filmmittwoch: „The Clitoris“ & „Female
  Pleasure“
DTSTART:20210922T180000Z
URL:https://eintopf.info/event/4976f1a2-93ab-480d-81a5-9a5f42caec8c
DTEND:20210922T200000Z
DESCRIPTION:Filmvorführung\n\nFünf mutige\, kluge und selbstbestimmte
  Frauen stehen im Zentrum von Barbara Millers Dokumentarfilm
  #FEMALEPLEASURE. Sie brechen das Tabu des Schweigens und der Scham\, das
  ihnen die Gesellschaft oder ihre religiösen Gemeinschaften mit ihren
  archaisch-patriarchalen Strukturen auferlegen. Mit einer unfassbaren
  positiven Energie und aller Kraft setzen sich Deborah Feldman\, Leyla
  Hussein\, Rokudenashiko\, Doris Wagner und Vithika Yadav für sexuelle
  Aufklärung und Selbstbestimmung aller Frauen ein\, hinweg über jedwede
  gesellschaftliche sowie religiöse Normen und Schranken. Dafür zahlen
  sie einen hohen Preis – sie werden öffentlich diffamiert\, verfolgt
  und bedroht\, von ihrem ehemaligen Umfeld werden sie verstoßen und von
  Religionsführern und fanatischen Gläubigen sogar mit dem Tod
  bedroht.\n\nAls Vorfilm zeigen wir die kurze Animation "Le Clitoris" von
  Lori Malépart-Traversy.\n\nDiese Veranstaltung richtet sich an Menschen
  aller Geschlechter und ist kostenlos. Pandemiebedingt ist die Teilnahme
  nur mit dem zu diesem Zeitpunkt von der dann gültigen Corona-Verordnung
  vorgeschriebenen Nachweis möglich. 
LOCATION:Württembergischer Kunstverein
ORGANIZER:mailto:Feministisches Frauen*gesundheitszentrum
END:VEVENT
END:VCALENDAR
