BEGIN:VCALENDAR
VERSION:2.0
PRODID:eintopf.info
METHOD:REQUEST
BEGIN:VEVENT
UID:4925301b-2788-4902-a39e-dbab31df1b4b
SUMMARY:Film | Leztastic
DTSTART:20250531T140000Z
URL:https://eintopf.info/event/4925301b-2788-4902-a39e-dbab31df1b4b
CATEGORIES:Kino\,Gesundheit
DESCRIPTION:Lesbische Lust kann alles sein: ein rebellischer Akt\, eine
  intime Offenbarung oder ein Spiel mit Macht und Begehren. Das
  Kurzfilmprogramm „Leztastic“ feiert queere Sinnlichkeit jenseits von
  Normen – mal roh\, mal zärtlich\, immer kompromisslos. Die Filme
  erkunden Lust als Befreiung von Scham\, lassen Körper in rauschhafter
  Ekstase aufeinandertreffen und fordern heraus\, queere Körper in all
  ihrer Schönheit neu zu betrachten. Zwischen sakraler Verführung\,
  dunkler Fantasie und hemmungslosem Genuss entfaltet sich ein Fest
  lesbischer Begierde.\n\nIm anschließenden Gespräch mit CK ergründen
  wir Fragestellungen rund um das Thema lesbische
  Sexualität.\n\nFilme:\n\nLustery | Negative porn myths | DE 2022 | Engl.
  & engl. UT | 9 min\nLydia Tsenta | Dori Dori | GR 2024 | Arabisch & engl.
  UT | 4 min\nLiberty Antonia Sadler | Object(s) of Desire | UK 2024 |
  Engl. & engl. UT | 4 min\nGoAskAlex Media | The Confession | CA 2022 |
  Engl. & engl. UT | 5 min\nLuna Kuu | NÄKKI - Spellbound | ES 2018 | Ohne
  Dialog Dt. Untertitel | 17 min\nLina Bembe | Silver V | DE 2024 | | 11
  min\nFour Chambers | Interior Geometries | UK 2024 | Ohne Dialog | 15 min
LOCATION:Delphi Arthaus Kino\, Tübingerstr. 6\, Stuttgart
GEO:48.7729927;9.1745127
ORGANIZER:mailto:With Pleasure e.V.
END:VEVENT
END:VCALENDAR
