BEGIN:VCALENDAR
VERSION:2.0
PRODID:eintopf.info
METHOD:REQUEST
BEGIN:VEVENT
UID:48e01932-6225-4154-9538-d67a9cccb072
SUMMARY:Filmscreening: Paranoid Places
DTSTART:20240118T190000Z
URL:https://eintopf.info/event/48e01932-6225-4154-9538-d67a9cccb072
DESCRIPTION:Kollektiv Wehrkanal x KOMMA esslingen presents:\nParanoid
  Places von Dennis Pavlovic.\n\nEin Film\, der die Anfänge der
  Stuttgarter Graffitiszene thematisiert und eine verschwiegene Subkultur
  zu Wort kommen lässt.\nKommt vorbei und macht euch einen schönen
  Abend.\n\n---\n\nEintritt auf Spendenbasis <3
LOCATION:KOMMA esslingen\, Maille 5-9\, 73738 Esslingen
GEO:48.7382339;9.3094705
END:VEVENT
END:VCALENDAR
