BEGIN:VCALENDAR
VERSION:2.0
PRODID:eintopf.info
METHOD:REQUEST
BEGIN:VEVENT
UID:480a130f-414d-4a63-a317-944d906860ba
SUMMARY:Kundgebung: Für Artikel 16 und 16a GG  - Niemandem wird der
  deutsche Pass weggenommen! Politisch Verfolgte genießen Asylrecht!
DTSTART:20240302T100000Z
URL:https://eintopf.info/event/480a130f-414d-4a63-a317-944d906860ba
DESCRIPTION:Menschen von Backnang! Hinaus!\nAUF DIE STRASSE FÜR DAS
  GRUNDGESETZ!\n\nFür Artikel 16 und 16a GG\nNiemandem wird der deutsche
  Pass weggenommen!\nPolitisch Verfolgte genießen Asylrecht!\nGrundrechte
  gelten für alle.\nWir sind doch alle Individuen!\n\nKommet zuhauf!\nAm
  Samstag\, den 2. März 2024\num 11 h auf den Backnanger Marktplatz zur
  Kundgebung\n\nExtremistisches Gedankengut hat bei uns (auch auf Schildern
  und Transparenten) keinen Platz.\nAbgesehen davon ist die Demo für
  alle!\nWir zeigen friedlich Gesicht für die Werte unserer
  Verfassung.\nDie Kundgebung ist parteiunabhängig. Wegen der baldigen
  Wahlen bitte ich darum\,\nauf Werbung durch das Zeigen von Parteilogos\,
  Parteisymbolen und Flaggen zu verzichten.\nDies gilt in gleicher Weise
  für Wählervereinigungen.\nAus ebendiesem Grund bitte ich auch darum\,
  Namen von Parteien oder Wählervereinigungen\nwährend der Kundgebung
  weder positiv noch negativ zu konnotieren.\nBleibt bitte immer fair und
  demokratisch!\nDie Kundgebung ist als stationäre Veranstaltung
  angemeldet.\n\nBacknang\, den 22.02.2024 – Tag der weißen Rose\,\nim
  Gedenken an die hingerichteten Hans und Sophie Scholl sowie Christoph
  Probst
LOCATION:Backnang Marktplatz
ORGANIZER:mailto:Volker Dyken
END:VEVENT
END:VCALENDAR
