BEGIN:VCALENDAR
VERSION:2.0
PRODID:eintopf.info
METHOD:REQUEST
BEGIN:VEVENT
UID:47b7dbcd-e2c0-4539-9e70-4e5a8eece2bd
SUMMARY:ESKAPADE - DnB & Rainbowbass
DTSTART:20251129T210000Z
URL:https://eintopf.info/event/47b7dbcd-e2c0-4539-9e70-4e5a8eece2bd
DTEND:20251130T040000Z
CATEGORIES:Konzert & Party\,Sonstiges
DESCRIPTION:ESKAPADE | 29.11. | 22:00–5:00 Uhr\n📍@sunnyhighclub
  \n\nBassheads aufgepasst – die nächste Eskapade geht an den Start!
  \n\nDiesmal haben wir 2 speical guests eingeladen: \n\nSarah Farina
  @sarahfarinabln bringt ihren einzigartigen rainbowbass an den Start –
  bunt\, basslastig und voller Energie 🌈
  \n\nhttps://on.soundcloud.com/JmMmniNg5N96ChIEav\n\nAntici trägt euch
  mit einem verträumt-düsteren Sound\, durch die Nacht
  🌌\n\nhttps://on.soundcloud.com/uUetHh1gYGlZurPrjI\n\nDie Eskapade
  Residents sind auch wieder an den Decks: @mikamalismus \, @selecta_heifi
  @mi0m_dj & @jjuxxta 
LOCATION:Sunny High Club\, Bahnhofstr. 14\, 70372 Stuttgart
GEO:48.8025406;9.2170963
ORGANIZER:mailto:ESKAPADE 
END:VEVENT
END:VCALENDAR
