BEGIN:VCALENDAR
VERSION:2.0
PRODID:eintopf.info
METHOD:REQUEST
BEGIN:VEVENT
UID:47a09142-0323-4661-80a4-5ac15608227e
SUMMARY:Die aktuelle Lage in Syrien
DTSTART:20241116T103000Z
URL:https://eintopf.info/event/47a09142-0323-4661-80a4-5ac15608227e
DTEND:20241116T120000Z
CATEGORIES:Vortrag\,Sonstiges
DESCRIPTION:In Deutschland wird Syrien heute vor allem im Zusammenhang mit
  Abschiebungen thematisiert. Die brutale Niederschlagung der syrischen
  Revolution und die anhaltende Repression durch das Assad-Regime\, die
  über die Hälfte der Bevölkerung zur Flucht zwangen\, sind weitgehend
  aus dem öffentlichen Bewusstsein verschwunden. Gleichzeitig zeichnet die
  Politik das Bild eines befriedeten Landes\, in dem es zumindest einige
  sichere Gebiete gebe. Mehrere EU-Staaten arbeiten bereits an der
  Anerkennung solcher Regionen als ’sicher‘. Dem gegenüber stehen
  Berichte über Menschenrechtsverletzungen\, Repression\, Verfolgung\,
  Folter und fortgesetzte Bombardierungen. Wie ist die Lage in Syrien
  wirklich?\nAdopt a Revolution (AaR) wurde 2011 angesichts der brutalen
  Verfolgung des friedlichen Aufstands gegen das Regime von Baschar
  al-Assad von syrischen und deutschen Aktivist*innen ins Leben gerufen.
  Die Solidaritäts- und Menschenrechtsorganisation unterstützt seitdem
  gewaltfreie zivilgesellschaftliche Projekte in Syrien gegen Diktatur und
  Terror und setzt sich für Gerechtigkeit und Frieden ein.\n\nEine
  Wiederholung des Vortrags findet von 15:30 bis 17:00 Uhr statt.\n\nWir
  freuen uns auf Ihr Kommen!\n\nDer Vortrag findet im Rahmen der
  Herbsttagung des Flüchtlingsrats Baden-Württemberg statt. \nEine
  Einzelanmeldung pro Programmpunkt ist möglich. \n\nFür weitere Infos
  und zur Anmeldung bitte hier entlang:
  https://fluechtlingsrat-bw.de/aktuelle-veranstaltungen/herbsttagung-2024/
LOCATION:Bürgerräume Stuttgart-West\, Bebelstrasse 22\, 70193 Stuttgart
ORGANIZER:mailto:Flüchtlingsrat Baden-Württemberg
END:VEVENT
END:VCALENDAR
