BEGIN:VCALENDAR
VERSION:2.0
PRODID:eintopf.info
METHOD:REQUEST
BEGIN:VEVENT
UID:4791685c-5165-486d-8d84-cd1239e158c3
SUMMARY:Frauen*Streik
DTSTART:20260309T150000Z
URL:https://eintopf.info/event/4791685c-5165-486d-8d84-cd1239e158c3
DTEND:20260309T170000Z
CATEGORIES:Demonstration\,Feminismus
DESCRIPTION:Am 09. März 2026 machen wir sichtbar\, was tagtäglich
  unsichtbar bleibt:\n\n- Sorgearbeit ist Arbeit\n- Ungleichheit ist
  politisch hergestellt& kein Einzelfall oder reine Privatsache \n- Gewalt
  hat materielle Wurzeln\n- Geschlechtergerechtigkeit erfordert
  strukturelle Antworten\n\nDer Streik richtet sich nicht nur an Frauen\,
  sondern an alle Menschen\, die von Ungleichheit betroffen sind oder
  solidarisch unterstützen wollen!\n\nKomm vorbei und mach mit: am
  09.03.2026 von 16-18Uhr am Schlossplatz in Stuttgart!✊🏾\n\nWenn du
  uns unterstützen möchtest\, melde dich gerne unter:
  frauenstreik2026.stuttgart_protonmail.com \n\nWir freuen uns auf euch und
  eure
  Unterstützung!!\n\nhttps://toechterkollektiv.de/\n\nhttps://www.instagra
 m.com/frauenstreik2026.stuttgart/p/DU_6B7PDEWQ/
LOCATION:Stuttgart Schlossplatz
GEO:48.7784723;9.1797446
ORGANIZER:mailto:toechter.kollektiv
END:VEVENT
END:VCALENDAR
