BEGIN:VCALENDAR
VERSION:2.0
PRODID:eintopf.info
METHOD:REQUEST
BEGIN:VEVENT
UID:47399a79-1995-4d77-8059-21e6b793f1b7
SUMMARY:Vortrag und Austausch: Raphael Thelen von der Neuen Generation
DTSTART:20250911T170000Z
URL:https://eintopf.info/event/47399a79-1995-4d77-8059-21e6b793f1b7
CATEGORIES:Vortrag\,Klimagerechtigkeit
DESCRIPTION:Lieber Mensch aus der Stuttgarter Umgebung! \n\nBahnbrechend
  schneller Wandel ist möglich\, das haben die vergangenen Jahre gezeigt.
  Ein Wandel\, der sogar Klimakrise\, Artensterben und Ausbeutung von
  Mensch und Natur stoppen würd – alles Probleme\, gegen die wir mit der
  Letzten Generation gekämpft haben.  \n\nDa ist die Erfahrung der
  Wendejahre in Deutschland\, als die DDR quasi über Nacht unterging\,
  gescheitert an inneren Widersprüchen\, und auch: am Widerstand von
  Menschen\, die nicht mehr einfach zusehen wollten. Für uns von der Neuen
  Generation ist das eine Inspiration\, genau wie die Proteste\, die
  derzeit in Serbien stattfinden: Dort begehrt eine Bevölkerung auf\, die
  ihre korrupten Herrscher gewaltlos herausfordert und hoffentlich
  stürzt.\n\nWas das mit unserer Situation zu tun hat? Selbst Robert
  Habeck sagte kürzlich in einer Talkshow: „Mit den Strukturen\, die wir
  im Moment politisch haben – das muss ich so hart sagen – sind wir
  nicht mehr in der Lage\, die Probleme zu lösen\, wie sie gelöst werden
  müssten.“ Oder Marlene Engelhorn während einer Pressekonferenz der
  Neuen Generation: „Das demokratische Prinzip steht in einem diametralen
  Gegensatz zu dem\, wie ich sozialisiert wurde als überreiche Person\,
  die in Vermögen hineingeboren wurde.“ Anders gesagt: Geld hat in
  Deutschland und weltweit zu viel Macht.\n\nDeswegen treten wir mit der
  Neuen Generation gegen die Allianz der Rechten und Reichen an\, die die
  Politik gekapert haben\, und für mehr Demokratie. Denn nicht nur in den
  USA gibt es Milliardäre\, die Trump unterstützen\, auch hierzulande
  schlagen sich superreiche Männer wie Theo Müller von „Müllermilch“
  auf die Seite der AfD.\n\nWas es jetzt braucht? Proteste\, klar – das
  können wir gut\, das haben wir mit der Letzten Generation gelernt und
  umgesetzt. Es braucht aber auch Institutionen\, die wirklich demokratisch
  sind\, d.h. wo Menschen wie Sie und ich entscheiden. Also
  Bürger*innenräte oder\, wie wir sagen: Parlamente der Menschen. Was das
  zusammen ergibt? Wenn es klappt: eine friedliche demokratische
  Revolution.\n\nWillst du dabei sein?\n\nKomm zum Vortrag:\n\nDonnerstag
  11.09.\n19 Uhr\nOrt: Die Anstifter\, DenkMacherei\, Werastr. 10\,
  Stuttgart\n\nRaphael Thelen kommt aus Berlin und erzählt u.a. davon was
  dort im Oktober passieren wird.\n\nFür Snacks ist auch
  gesorgt.\n\nWiderständige Grüße!\n\n\n\nUnter folgendem Link gibts
  auch Infos zu Berlin und Neue Generation:
  https://linktr.ee/neuegeneration
LOCATION:Die Anstifter\, Werastr. 10\, Stuttgart\, DenkMacherei
ORGANIZER:mailto:Neue Generation
END:VEVENT
END:VCALENDAR
