BEGIN:VCALENDAR
VERSION:2.0
PRODID:eintopf.info
METHOD:REQUEST
BEGIN:VEVENT
UID:471b23e2-e3d7-405d-a5fd-3cdf89b59453
SUMMARY:Gasparitsch Kneipe
DTSTART:20240607T180000Z
URL:https://eintopf.info/event/471b23e2-e3d7-405d-a5fd-3cdf89b59453
DTEND:20240607T215000Z
DESCRIPTION:jeden Freitag ab 20 Uhr mit leckerem Essen\, Getränke – in
  netter Atmosphäre
LOCATION:Stadtteilzentrum Gasparitsch\, Rotenbergstr. 125\, 70190 Stuttgart
GEO:48.788058;9.2116285
END:VEVENT
END:VCALENDAR
