BEGIN:VCALENDAR
VERSION:2.0
PRODID:eintopf.info
METHOD:REQUEST
BEGIN:VEVENT
UID:46784cb3-720b-4ea7-b8bc-9d82f8508834
SUMMARY:ZuZule Tag der Nachhaltigkeit in Plochingen
DTSTART:20251011T080000Z
URL:https://eintopf.info/event/46784cb3-720b-4ea7-b8bc-9d82f8508834
DTEND:20251011T140000Z
CATEGORIES:Workshop\,Klimagerechtigkeit
DESCRIPTION:Vortrag: Nachhaltigkeit im Alltag (ZuZule) – denn jede*r kann
  was tun 🙂\n\nMitmachaktionen: Cleanup – Wildkräuter Werkstatt –
  Seedbombs – Hafermilch selbst herstellen – Apfelsaft pressen –
  Kinderbuch Lesung mit Bastelaktion\n\nbesonderes Highlight: kleine
  Exkursion zu den Bibern auf den Bruckenwasen\n\nfür das leibliche Wohl
  ist - natürlich nachhaltig lecker - gesorgt \;-) \n\nWir ALLE können
  GEMEINSAM unsere Welt zu einem schöneren Ort machen und diese auch für
  nachfolgende Generationen schützen und
  erhalten.\n\nhttps://zuzule.net/event/tag-der-nachhaltigkeit-in-plochinge
 n/\n\nEINTRITT FREI \nAnmeldung wäre toll für unsere Planung :-)
  \nschreibt Eure Anmeldung bitte an >>>
  Brigitte.Beier@umweltzentrum-neckar-fils.de\n\nVeranstaltungsort >>>
 \n\nUmweltzentrum Neckar-Fils e.V.\nAm Bruckenbach 20\n73207 Plochingen
LOCATION:Umweltzentrum Neckar-Fils e.V.\, Am Bruckenbach 20 73207
  Plochingen
GEO:48.7041727;9.4193142
ORGANIZER:mailto:ZuZule - Zusammen Zukunft leben
END:VEVENT
END:VCALENDAR
