BEGIN:VCALENDAR
VERSION:2.0
PRODID:eintopf.info
METHOD:REQUEST
BEGIN:VEVENT
UID:464612f4-9147-4d21-8977-734dc0b0cab4
SUMMARY:Buchpremiere: "Endlosschleifentage" von Fabian Neidhardt
DTSTART:20250313T180000Z
URL:https://eintopf.info/event/464612f4-9147-4d21-8977-734dc0b0cab4
CATEGORIES:Sonstiges\,Sonstiges
DESCRIPTION:Wie geht das Leben nach dem Tod der großen Liebe weiter?\nVon
  Trauer und Freundschaft\, Verlust und Tabus\, von Neuanfängen und
  Abschied. David und Katha kennen sich schon immer\, sind gemeinsam
  erwachsen geworden und haben jung geheiratet. Doch dann kommt Katha bei
  einem Autounfall ums Leben\, und Davids Welt steht still. Sie war jedes
  seiner ersten Male\, sie ist jede Erinnerung. Kinga\, Kathas beste
  Freundin\, die den Unfall mit- und überlebt hat\, versucht zu helfen\,
  sich zu kümmern – während sie eigentlich mit ihrem eigenen Trauma
  klarkommen muss. David kämpft sich Tag für Tag auf den Friedhof – zu
  Katha – und fragt sich\, wie Trauern geht. Am Friedhof lernt er Marie
  kennen.\n\nWas bedeutet loslassen?\nMarie ist die Tochter des
  Totengräbers\, die ihre eigene Vergangenheit aufarbeiten muss und von
  Konventionen nichts hält. Der Friedhof ist ihr Leben\, und sie weiß\,
  dass niemand hier zu viel Zeit verbringen sollte. Kinga hingegen denkt\,
  dass David erst einmal trauern muss. Aber David kann weder das eine noch
  das andere. Jeder Schritt in eine Richtung ist ein Schritt weg von Katha.
  Der Halt von Marie fühlt sich wie Verrat an. Die Enttäuschung von Kinga
  lähmt ihn. Nur die Musik\, die er macht\, klingt richtig.\n\nDie
  zutiefst menschlichen Momente\nWie fühlt es sich an\, die eigene Frau\,
  die beste Freundin viel zu früh zu verlieren? Wie trauert man richtig?
  Wie findet man zurück in einen Alltag\, ins Leben? David findet
  Antworten: in den Menschen\, die ihm Halt geben\, in den Augenblicken\,
  die ihn hoffen lassen\, und in den neuen – ganz eigenen – Wegen\, die
  sich hinter der Trauer auftun.\n\nFabian Neidhardt schreibt wie im Film\,
  erzählt mitreißend und intensiv von den dunkelsten und den
  wunderbarsten Gefühlen – da sind Schmerz und Angst\, aber vor allem:
  Wärme und Hoffnung. Ein Roman\, der zum Weinen und zum Lächeln
  bringt.\n\n 
LOCATION:Raupe Immersatt\, Johannesstraße 97\, Stuttgart
GEO:48.782018;9.1579717
ORGANIZER:mailto:Raupe Immersatt
END:VEVENT
END:VCALENDAR
