BEGIN:VCALENDAR
VERSION:2.0
PRODID:eintopf.info
METHOD:REQUEST
BEGIN:VEVENT
UID:4630b880-4577-46c0-a829-486201ba8d79
SUMMARY:Mit Commoning aus der Klimakatastrophe
DTSTART:20240925T170000Z
URL:https://eintopf.info/event/4630b880-4577-46c0-a829-486201ba8d79
CATEGORIES:Vortrag\,Politische Ökonomie
DESCRIPTION:Viele sorgen sich um die Klimakatastrophe. Manche davon
  übersehen dabei deren wichtigsten Faktor\, die Form des
  Individualeigentums und seine überwältigende Dynamik. Sie blenden deren
  gesell­schaftlichen Zusammenhänge aus und ignorieren das
  Individualeigentum\, als sei es neutral. \nZiel dieses Vortrags ist es\,
  das Verhältnis von Individualeigentum\, Tausch\, Warenform\, Geld\,
  Markt hin zu einer unbändigen Produktion zu problematisieren\, die zu
  einer Klima­katastrophe führt. Im Abschnitt Vision benennen wir unsere
  Perspektive\, danach unsere ersten Schritte auf dem Weg dorthin. Der
  Vortrag fußt auf dem Text
  \nhttps://teilbar.eu/allgemein/mit-commoning-aus-der-klimakatastrophe/
  \nIm Anschluss an Vortrag und Diskussion wollen wir Vereinbarungen
  treffen\, um nicht nur über Klimawandel und economic change zu reden\,
  sondern auch etwas zu tun.
LOCATION:Aussenstelle MüZe Süd Familienzentrum Stuttgart e.V.\,
  Böblinger Straße 44\, 70199 Stuttgart 
GEO:48.76362845;9.162565391838394
ORGANIZER:mailto:Solidarische Landwirtschaft Stuttgart
END:VEVENT
END:VCALENDAR
