BEGIN:VCALENDAR
VERSION:2.0
PRODID:eintopf.info
METHOD:REQUEST
BEGIN:VEVENT
UID:4587f862-d7fe-4c32-b186-8be89b0aa6e0
SUMMARY:Auswirkungen der Verbrennung von Holz in Kraftwerken und die Pläne
  der EnBW
DTSTART:20210724T083000Z
URL:https://eintopf.info/event/4587f862-d7fe-4c32-b186-8be89b0aa6e0
DTEND:20210724T100000Z
DESCRIPTION:\n\nJana Ballenthien ist Fachreferentin\, Wald bei Robin Wood
  \nDie EnBW plant mehrere Großkraftwerke von Kohle auf
  Holz/Pelletverbrennung umzurüsten. Diese Pläne sind zutiefst
  klimaschädlich. Vor allem auch aus dem Grund\, da das Holz dafür
  voraussichtlich komplett aus Übersee importiert werden soll. Jana klärt
  darüber auf\, zeigt bisherige Protestformate und sinniert mit den
  Teilies über weitere Ideen.
LOCATION:Klimacamp Stuttgart 2021\, Zelt-Rosa
ORGANIZER:mailto:Kesselbambule,Jana Ballenthien, (Robin Wood)
END:VEVENT
END:VCALENDAR
