BEGIN:VCALENDAR
VERSION:2.0
PRODID:eintopf.info
METHOD:REQUEST
BEGIN:VEVENT
UID:4542f302-6372-4750-85bd-01fa5acba730
SUMMARY:10 Jahresfest Stadtteilzentrum Gasparitsch
DTSTART:20241019T120000Z
URL:https://eintopf.info/event/4542f302-6372-4750-85bd-01fa5acba730
DTEND:20241019T200000Z
CATEGORIES:Konzert & Party\,Antifaschismus
DESCRIPTION:10 Jahre Selbstorganisation\, 10 Jahre Unabhängigkeit\, 10
  Jahre für die Menschen in Stuttgart-Ost\n>> 10 Jahre Gasparitsch <
 <\n\nDas selbstverwaltete Stadtteilzentrum Gasparitsch feiert mit einem
  Straßenfest nicht nur das eigene Jubiläum\, sondern vor allem all
  diejenigen\, die das Gasparitsch überhaupt erst möglich machen: die
  Nachbarschaft und ganz Stuttgart-Ost.\n\nKommt vorbei und feiern wir
  gemeinsam die vergangenen und kommenden großartigen Jahre im Stuttgarter
  Osten!\n\nSamstag\, 19. Oktober\, 14-22 Uhr (+ Aftershow
  Party)\nStadtteilzentrum Gasparitsch\nRotenbergstr. 125\, U4
  Ostendplatz\, U9 Raitelsberg (gegenüber der Gaststätte
  Friedenau)\n\nHier findet ihr den geplanten groben Ablauf für unser
  Fest… Es kann aber auch immer zu kleinen und größeren Verschiebungen
  kommen.\nAblauf\n\nab 14 Uhr:\n\n    Kinderprogramm\n    Kaffee &
  Kuchen\n    kaltes Buffet\n    Quiz\n\n16:00 Uhr: Live-Musik mit Dave
  Collide (Singer/Songwriter)\n\nab 18:30 Uhr:\n\n    warmes leckeres
  Essen\n    bis 18:30 Uhr: Quizabgabe\n\nab 19:30 Uhr\n\n   
  Quizauflösung\n\nab 20:15 Uhr\n\n    Live Musik mit bellalebwohl
  (kantig\, roh & tanzbar)\n
LOCATION:Stadtteilzentrum Gasparitsch\, Rotenbergstr. 125\, 70190 Stuttgart
GEO:48.788058;9.2116285
ORGANIZER:mailto:Stadtteilzentrum Gasparitsch
END:VEVENT
END:VCALENDAR
