BEGIN:VCALENDAR
VERSION:2.0
PRODID:eintopf.info
METHOD:REQUEST
BEGIN:VEVENT
UID:435e7b71-5fb5-41a0-a724-63706153b96d
SUMMARY:Nachbarschaftsfrühstück
DTSTART:20240707T090000Z
URL:https://eintopf.info/event/435e7b71-5fb5-41a0-a724-63706153b96d
DTEND:20240707T120000Z
CATEGORIES:Gesellig\,Sonstiges
DESCRIPTION:Ein Kennenlernen und Austausch in lockerer Atmosphäre für
  Familien\, Rentner und Alleinstehende mit Spielmöglichkeiten für
  Kinder.\n\nDAS PRINZIP IST EINFACH: VORBEIKOMMEN & SPASS HABEN!\n\nFür
  den Grundstock ist gesorgt. Bringt gerne Essen\, Trinken und Spielsachen
  für alle mit. Außerdem eure Familie\, Freunde und Bekannte Der
  Grundstock besteht aus: Brot\, Brotaufstrich\, Belag (Käse & Wurst)\,
  Kaffee\, Tee\, Milch\, Gemüse\, Obst & Butter
LOCATION:Stadtteilzentrum Gasparitsch\, Rotenbergstr. 125\, 70190 Stuttgart
GEO:48.788058;9.2116285
ORGANIZER:mailto:Stadtteilzentrum Gasparitsch
END:VEVENT
END:VCALENDAR
