BEGIN:VCALENDAR
VERSION:2.0
PRODID:eintopf.info
METHOD:REQUEST
BEGIN:VEVENT
UID:429f3037-915d-4190-8b7c-d765c8fcc66c
SUMMARY:Queer Bar
DTSTART:20250404T160000Z
URL:https://eintopf.info/event/429f3037-915d-4190-8b7c-d765c8fcc66c
DTEND:20250404T215500Z
CATEGORIES:Konzert & Party\,Queer
DESCRIPTION:Your new favorite hangout spot – a queer bar for the
  community\, serving up good vibes and even better drinks. Meet your
  friends here and just enjoy the night\, our hot bartenders have you
  covered with coffee\, beer\, sodas\, cocktails\, and more.\n\nWe are a
  space to be yourself :)
LOCATION:UTOPIA Kiosk\, Lazarettstraße 5\, 70182 Stuttgart
GEO:48.7730256;9.18134848847793
ORGANIZER:mailto:UTOPIA Kiosk
END:VEVENT
END:VCALENDAR
