BEGIN:VCALENDAR
VERSION:2.0
PRODID:eintopf.info
METHOD:REQUEST
BEGIN:VEVENT
UID:41ab76c5-7ce8-411d-a83e-2aee9f8ad02d
SUMMARY:WANDEL.KINO: "Der Schneeleopard"
DTSTART:20240523T173000Z
URL:https://eintopf.info/event/41ab76c5-7ce8-411d-a83e-2aee9f8ad02d
DESCRIPTION:\n\nWir freuen uns\, euch mit unserer neuen Film-Reihe
  „WANDEL.KINO“ inspirierende Filmwerke zu zeigen\, die in uns etwas
  nachhaltig ausgelöst haben: Filme\, die gesellschaftspolitische Impulse
  setzen\, die Lust machen\, sich tiefgehender mit sozialen-ökologischen
  Themen zu beschäftigen. Filme\, die Missstände aufzeigen und uns zum
  Nachdenken anregen. Filme\, die aber auch Räume für neue Möglichkeiten
  und Chancen öffnen und uns ermuntern\, gleich loszulegen. Filme\, die
  die Schönheit unserer Erde porträtieren und die uns motivieren\, unsere
  Routinen und Muster zu durchbrechen\, um für ihren Erhalt in Zeiten der
  Klimakrise zu kämpfen.\n\nKOMMT ZUM FILM-ABEND IN DER RAUPE UND ERLEBT
  DIESMAL „DER SCHNEELEOPARD“ (F\, 2021):\nIm Herzen des tibetischen
  Hochlands begibt sich Natur- und Wildlife-Fotograf Vincent Munier
  zusammen mit dem Schriftsteller Sylvain Tesson auf die Suche nach dem
  Schneeleoparden. Nur noch wenige Exemplare der gefährdeten und scheuen
  Art sind in freier Wildbahn anzutreffen. Tagelang durchstreifen die
  beiden Männer das Gebirge\, lesen Spuren\, werden mit der Landschaft
  eins. Geduldig harren sie aus\, beobachten und fotografieren. Ihre
  langsame Jagd nach dem Schneeleoparden entwickelt sich dabei zu einer
  inneren Reise\, einem stillen Dialog über den Platz des Menschen in
  einer verschwindenden Welt. Herausgekommen ist ein Film von
  überwältigender Schönheit.\n\nHINTERGRUND\nDie Raupe fördert den
  Erhalt von Independent Filmen und setzt sich damit für mehr analoge
  Filmkunst ein. Mit einem Besuch der Veranstaltung unterstützt ihr nicht
  nur die Raupe als gemeinnützigen Kultur- und Bildungsort\, sondern auch
  unabhängige Filmverleihe und Filmeschaffende\, deren Werke fernab von
  Streaming-Giganten produziert und verliehen werden. Lasst uns echte
  Programmvielfalt leben und uns auch daran erinnern\, die Kino-Kultur und
  all die vielen kleinen Filmtheater zu erhalten!\n\nEin großes
  Dankeschön geht an dieser Stelle an das Kulturamt der Stadt Stuttgart\,
  das die Filmreihe mit einer Kulturförderung unterstützt.\n
LOCATION:Raupe Immersatt\, Johannesstraße 97\, Stuttgart
GEO:48.782018;9.1579717
ORGANIZER:mailto:Raupe Immersatt
END:VEVENT
END:VCALENDAR
